0.063499999999772
0.0
0.0
-0.063499999999926
6404226.45075
5732282.533
